BEGIN:VCALENDAR
VERSION:2.0
PRODID:-//Taiji, Taichi, Čchi-kung kurzy v praze - ECPv6.15.20//NONSGML v1.0//EN
CALSCALE:GREGORIAN
METHOD:PUBLISH
X-WR-CALNAME:Taiji, Taichi, Čchi-kung kurzy v praze
X-ORIGINAL-URL:https://taiji.cz
X-WR-CALDESC:Akce na Taiji, Taichi, Čchi-kung kurzy v praze
REFRESH-INTERVAL;VALUE=DURATION:PT1H
X-Robots-Tag:noindex
X-PUBLISHED-TTL:PT1H
BEGIN:VTIMEZONE
TZID:Europe/Prague
BEGIN:DAYLIGHT
TZOFFSETFROM:+0100
TZOFFSETTO:+0200
TZNAME:CEST
DTSTART:20240331T010000
END:DAYLIGHT
BEGIN:STANDARD
TZOFFSETFROM:+0200
TZOFFSETTO:+0100
TZNAME:CET
DTSTART:20241027T010000
END:STANDARD
BEGIN:DAYLIGHT
TZOFFSETFROM:+0100
TZOFFSETTO:+0200
TZNAME:CEST
DTSTART:20250330T010000
END:DAYLIGHT
BEGIN:STANDARD
TZOFFSETFROM:+0200
TZOFFSETTO:+0100
TZNAME:CET
DTSTART:20251026T010000
END:STANDARD
BEGIN:DAYLIGHT
TZOFFSETFROM:+0100
TZOFFSETTO:+0200
TZNAME:CEST
DTSTART:20260329T010000
END:DAYLIGHT
BEGIN:STANDARD
TZOFFSETFROM:+0200
TZOFFSETTO:+0100
TZNAME:CET
DTSTART:20261025T010000
END:STANDARD
END:VTIMEZONE
BEGIN:VEVENT
DTSTART;TZID=Europe/Prague:20250918T200000
DTEND;TZID=Europe/Prague:20250918T210000
DTSTAMP:20260425T035720
CREATED:20250725T121010Z
LAST-MODIFIED:20250916T113428Z
UID:51120-1758225600-1758229200@taiji.cz
SUMMARY:Večerní úvodní kurz Tai-chi
DESCRIPTION:
URL:https://taiji.cz/taichi-akce/taiji-kurzy-praha/
CATEGORIES:Tchaj-ťi,uvodní kurzy
ATTACH;FMTTYPE=image/jpeg:https://taiji.cz/wp-content/uploads/2023/07/pruh-podzim-2023-e1722514752620.jpg
END:VEVENT
BEGIN:VEVENT
DTSTART;TZID=Europe/Prague:20250910T170000
DTEND;TZID=Europe/Prague:20250928T180000
DTSTAMP:20260425T035720
CREATED:20250803T181027Z
LAST-MODIFIED:20250803T192959Z
UID:51366-1757523600-1759082400@taiji.cz
SUMMARY:Tai-chi meč
DESCRIPTION:
URL:https://taiji.cz/taichi-akce/taichi-mec/
CATEGORIES:titulka zbrane
ATTACH;FMTTYPE=image/jpeg:https://taiji.cz/wp-content/uploads/2022/08/titul-radek-mec.jpg
END:VEVENT
BEGIN:VEVENT
DTSTART;TZID=Europe/Prague:20250909T190000
DTEND;TZID=Europe/Prague:20250909T200000
DTSTAMP:20260425T035720
CREATED:20250725T125306Z
LAST-MODIFIED:20250725T125306Z
UID:51132-1757444400-1757448000@taiji.cz
SUMMARY:Úterní úvodní kurz Čchi-kung
DESCRIPTION:
URL:https://taiji.cz/taichi-akce/kurzy-cchikung-praha/
CATEGORIES:Čchi-kung,uvodní kurzy
ATTACH;FMTTYPE=image/jpeg:https://taiji.cz/wp-content/uploads/2023/09/cchikung_jitka_sirka.jpg
END:VEVENT
BEGIN:VEVENT
DTSTART;TZID=Europe/Prague:20250909T170000
DTEND;TZID=Europe/Prague:20250909T180000
DTSTAMP:20260425T035720
CREATED:20250725T130824Z
LAST-MODIFIED:20260104T182449Z
UID:51143-1757437200-1757440800@taiji.cz
SUMMARY:Čchi-kung Navíjení hedvábného vlákna
DESCRIPTION:
URL:https://taiji.cz/taichi-akce/cchi-kung-kurzy-praha/
CATEGORIES:Čchi-kung,uvodní kurzy
ATTACH;FMTTYPE=image/jpeg:https://taiji.cz/wp-content/uploads/2023/09/cchikung_jitka_sirka.jpg
END:VEVENT
BEGIN:VEVENT
DTSTART;TZID=Europe/Prague:20250908T190000
DTEND;TZID=Europe/Prague:20250908T200000
DTSTAMP:20260425T035720
CREATED:20250725T115407Z
LAST-MODIFIED:20250910T115713Z
UID:51109-1757358000-1757361600@taiji.cz
SUMMARY:Úvodní kurz Tai-chi 2x týdně
DESCRIPTION:
URL:https://taiji.cz/taichi-akce/taichi-kurz-v-praze/
ATTACH;FMTTYPE=image/jpeg:https://taiji.cz/wp-content/uploads/2023/07/pruh-podzim-2023-e1722514752620.jpg
END:VEVENT
BEGIN:VEVENT
DTSTART;TZID=Europe/Prague:20250823T090000
DTEND;TZID=Europe/Prague:20250823T160000
DTSTAMP:20260425T035720
CREATED:20250714T071408Z
LAST-MODIFIED:20250919T160429Z
UID:50782-1755939600-1755964800@taiji.cz
SUMMARY:Seminář Tyč\, kopí\, vějíř s Luckou
DESCRIPTION:
URL:https://taiji.cz/taichi-akce/seminar-taichi-tyc-kopi-vejir-2/
ATTACH;FMTTYPE=image/jpeg:https://taiji.cz/wp-content/uploads/2019/02/IMG_0073.jpg
END:VEVENT
END:VCALENDAR