BEGIN:VCALENDAR
VERSION:2.0
PRODID:-//Taiji, Taichi, Čchi-kung kurzy v praze - ECPv6.15.20//NONSGML v1.0//EN
CALSCALE:GREGORIAN
METHOD:PUBLISH
X-ORIGINAL-URL:https://taiji.cz
X-WR-CALDESC:Akce na Taiji, Taichi, Čchi-kung kurzy v praze
REFRESH-INTERVAL;VALUE=DURATION:PT1H
X-Robots-Tag:noindex
X-PUBLISHED-TTL:PT1H
BEGIN:VTIMEZONE
TZID:Europe/Prague
BEGIN:DAYLIGHT
TZOFFSETFROM:+0100
TZOFFSETTO:+0200
TZNAME:CEST
DTSTART:20240331T010000
END:DAYLIGHT
BEGIN:STANDARD
TZOFFSETFROM:+0200
TZOFFSETTO:+0100
TZNAME:CET
DTSTART:20241027T010000
END:STANDARD
BEGIN:DAYLIGHT
TZOFFSETFROM:+0100
TZOFFSETTO:+0200
TZNAME:CEST
DTSTART:20250330T010000
END:DAYLIGHT
BEGIN:STANDARD
TZOFFSETFROM:+0200
TZOFFSETTO:+0100
TZNAME:CET
DTSTART:20251026T010000
END:STANDARD
BEGIN:DAYLIGHT
TZOFFSETFROM:+0100
TZOFFSETTO:+0200
TZNAME:CEST
DTSTART:20260329T010000
END:DAYLIGHT
BEGIN:STANDARD
TZOFFSETFROM:+0200
TZOFFSETTO:+0100
TZNAME:CET
DTSTART:20261025T010000
END:STANDARD
END:VTIMEZONE
BEGIN:VEVENT
DTSTART;TZID=Europe/Prague:20251204T170000
DTEND;TZID=Europe/Prague:20251204T180000
DTSTAMP:20260424T232953
CREATED:20250912T172816Z
LAST-MODIFIED:20251211T145908Z
UID:51721-1764867600-1764871200@taiji.cz
SUMMARY:Úvodní kurz Tai-chi
DESCRIPTION:
URL:https://taiji.cz/taichi-akce/kurz-taichi-praha/
CATEGORIES:Tchaj-ťi,uvodní kurzy
ATTACH;FMTTYPE=image/jpeg:https://taiji.cz/wp-content/uploads/2023/07/pruh-podzim-2023-e1722514752620.jpg
END:VEVENT
BEGIN:VEVENT
DTSTART;TZID=Europe/Prague:20251213T140000
DTEND;TZID=Europe/Prague:20251213T180000
DTSTAMP:20260424T232953
CREATED:20251027T131955Z
LAST-MODIFIED:20251229T172703Z
UID:51992-1765634400-1765648800@taiji.cz
SUMMARY:Seminář Čínský meč
DESCRIPTION:
URL:https://taiji.cz/taichi-akce/seminar-taichi-mec-2/
CATEGORIES:Taichi víkendy,talavan
ATTACH;FMTTYPE=image/jpeg:https://taiji.cz/wp-content/uploads/2025/10/taichi_mec_Radek2.jpg
END:VEVENT
BEGIN:VEVENT
DTSTART;TZID=Europe/Prague:20251218T190000
DTEND;TZID=Europe/Prague:20251218T210000
DTSTAMP:20260424T232953
CREATED:20241111T095803Z
LAST-MODIFIED:20251229T172625Z
UID:48706-1766084400-1766091600@taiji.cz
SUMMARY:Oslavte s námi zimní slunovrat
DESCRIPTION:
URL:https://taiji.cz/taichi-akce/slunovrat-2/
CATEGORIES:Taichi akce,Taichi víkendy,taiji akademie,Tchaj-ťi
ATTACH;FMTTYPE=image/jpeg:https://taiji.cz/wp-content/uploads/2024/12/Slunovrat-nahled-web1500-x-480.jpg
END:VEVENT
END:VCALENDAR