BEGIN:VCALENDAR
VERSION:2.0
PRODID:-//Taiji, Taichi, Čchi-kung kurzy v praze - ECPv6.15.20//NONSGML v1.0//EN
CALSCALE:GREGORIAN
METHOD:PUBLISH
X-WR-CALNAME:Taiji, Taichi, Čchi-kung kurzy v praze
X-ORIGINAL-URL:https://taiji.cz
X-WR-CALDESC:Akce na Taiji, Taichi, Čchi-kung kurzy v praze
REFRESH-INTERVAL;VALUE=DURATION:PT1H
X-Robots-Tag:noindex
X-PUBLISHED-TTL:PT1H
BEGIN:VTIMEZONE
TZID:Europe/Prague
BEGIN:DAYLIGHT
TZOFFSETFROM:+0100
TZOFFSETTO:+0200
TZNAME:CEST
DTSTART:20250330T010000
END:DAYLIGHT
BEGIN:STANDARD
TZOFFSETFROM:+0200
TZOFFSETTO:+0100
TZNAME:CET
DTSTART:20251026T010000
END:STANDARD
BEGIN:DAYLIGHT
TZOFFSETFROM:+0100
TZOFFSETTO:+0200
TZNAME:CEST
DTSTART:20260329T010000
END:DAYLIGHT
BEGIN:STANDARD
TZOFFSETFROM:+0200
TZOFFSETTO:+0100
TZNAME:CET
DTSTART:20261025T010000
END:STANDARD
BEGIN:DAYLIGHT
TZOFFSETFROM:+0100
TZOFFSETTO:+0200
TZNAME:CEST
DTSTART:20270328T010000
END:DAYLIGHT
BEGIN:STANDARD
TZOFFSETFROM:+0200
TZOFFSETTO:+0100
TZNAME:CET
DTSTART:20271031T010000
END:STANDARD
END:VTIMEZONE
BEGIN:VEVENT
DTSTART;TZID=Europe/Prague:20260505T190000
DTEND;TZID=Europe/Prague:20260505T200000
DTSTAMP:20260424T142014
CREATED:20260408T125422Z
LAST-MODIFIED:20260408T125422Z
UID:52827-1778007600-1778011200@taiji.cz
SUMMARY:Jarní úvodní kurz Čchi-kung
DESCRIPTION:
URL:https://taiji.cz/taichi-akce/jarni-kurz-cchi-kung-praha-2/
CATEGORIES:Čchi-kung,Titulka kurzy,uvodní kurzy
ATTACH;FMTTYPE=image/jpeg:https://taiji.cz/wp-content/uploads/2023/09/cchikung_jitka_sirka.jpg
END:VEVENT
BEGIN:VEVENT
DTSTART;TZID=Europe/Prague:20260507T190000
DTEND;TZID=Europe/Prague:20260510T160000
DTSTAMP:20260424T142014
CREATED:20260310T142354Z
LAST-MODIFIED:20260415T152920Z
UID:52733-1778180400-1778428800@taiji.cz
SUMMARY:Prodloužený Tai-chi víkend 7. - 10.5.
DESCRIPTION:
URL:https://taiji.cz/taichi-akce/talavan_05_2026-1/
CATEGORIES:Taichi víkendy,talavan,titulka,Titulka akce
ATTACH;FMTTYPE=image/jpeg:https://taiji.cz/wp-content/uploads/2026/03/6E29AC79-1A92-4CCF-AB59-8ECAB18450A3_1_105_c.jpg
END:VEVENT
BEGIN:VEVENT
DTSTART;TZID=Europe/Prague:20260605T190000
DTEND;TZID=Europe/Prague:20260607T160000
DTSTAMP:20260424T142014
CREATED:20260310T143323Z
LAST-MODIFIED:20260413T130228Z
UID:52729-1780686000-1780848000@taiji.cz
SUMMARY:Víkend s Tai-chi 5. - 7.6.
DESCRIPTION:
URL:https://taiji.cz/taichi-akce/talavan_06-2026/
CATEGORIES:Taichi víkendy,talavan,Titulka akce
ATTACH;FMTTYPE=image/jpeg:https://taiji.cz/wp-content/uploads/2020/02/IMG_5490a.jpg
END:VEVENT
BEGIN:VEVENT
DTSTART;TZID=Europe/Prague:20260620T130000
DTEND;TZID=Europe/Prague:20260627T100000
DTSTAMP:20260424T142014
CREATED:20260204T125459Z
LAST-MODIFIED:20260211T143548Z
UID:52578-1781960400-1782554400@taiji.cz
SUMMARY:Tai-chi s vůní moře 2026
DESCRIPTION:
URL:https://taiji.cz/taichi-akce/tai-chi-chorvatsko-2026/
CATEGORIES:Letní pobyty,Taichi víkendy,taiji akademie,Titulka akce
ATTACH;FMTTYPE=image/jpeg:https://taiji.cz/wp-content/uploads/2017/02/silueta.jpg
END:VEVENT
BEGIN:VEVENT
DTSTART;TZID=Europe/Prague:20260703T190000
DTEND;TZID=Europe/Prague:20260708T160000
DTSTAMP:20260424T142014
CREATED:20260413T111048Z
LAST-MODIFIED:20260413T111048Z
UID:52794-1783105200-1783526400@taiji.cz
SUMMARY:Pět dní v rytmu Tai-chi 3.-8.7.
DESCRIPTION:
URL:https://taiji.cz/taichi-akce/talavan_07_2026-1/
CATEGORIES:Taichi víkendy,talavan,titulka,Titulka akce
ATTACH;FMTTYPE=image/jpeg:https://taiji.cz/wp-content/uploads/2026/04/R-s-mistrem-na-TAlavanu.jpg
END:VEVENT
BEGIN:VEVENT
DTSTART;TZID=Europe/Prague:20260723T190000
DTEND;TZID=Europe/Prague:20260726T160000
DTSTAMP:20260424T142014
CREATED:20260409T122343Z
LAST-MODIFIED:20260413T130054Z
UID:52802-1784833200-1785081600@taiji.cz
SUMMARY:Léto s Tai-chi 23. - 26.7.
DESCRIPTION:
URL:https://taiji.cz/taichi-akce/talavan_07_2026-2/
CATEGORIES:Taichi víkendy,talavan,titulka,Titulka akce
ATTACH;FMTTYPE=image/jpeg:https://taiji.cz/wp-content/uploads/2026/04/Skupina-RAdek-TAlavan.jpg
END:VEVENT
BEGIN:VEVENT
DTSTART;TZID=Europe/Prague:20260806T190000
DTEND;TZID=Europe/Prague:20260827T160000
DTSTAMP:20260424T142014
CREATED:20240223T123142Z
LAST-MODIFIED:20260219T144046Z
UID:46810-1786042800-1787846400@taiji.cz
SUMMARY:Spolu do Číny
DESCRIPTION:
URL:https://taiji.cz/taichi-akce/spolu-do-ciny_2026/
CATEGORIES:Taichi víkendy,Titulka akce
ATTACH;FMTTYPE=image/jpeg:https://taiji.cz/wp-content/uploads/2024/02/Cina-ilustracni-foto-1.jpg
END:VEVENT
END:VCALENDAR