BEGIN:VCALENDAR
VERSION:2.0
PRODID:-//Taiji, Taichi, Čchi-kung kurzy v praze - ECPv6.15.20//NONSGML v1.0//EN
CALSCALE:GREGORIAN
METHOD:PUBLISH
X-ORIGINAL-URL:https://taiji.cz
X-WR-CALDESC:Akce na Taiji, Taichi, Čchi-kung kurzy v praze
REFRESH-INTERVAL;VALUE=DURATION:PT1H
X-Robots-Tag:noindex
X-PUBLISHED-TTL:PT1H
BEGIN:VTIMEZONE
TZID:Europe/Prague
BEGIN:DAYLIGHT
TZOFFSETFROM:+0100
TZOFFSETTO:+0200
TZNAME:CEST
DTSTART:20250330T010000
END:DAYLIGHT
BEGIN:STANDARD
TZOFFSETFROM:+0200
TZOFFSETTO:+0100
TZNAME:CET
DTSTART:20251026T010000
END:STANDARD
BEGIN:DAYLIGHT
TZOFFSETFROM:+0100
TZOFFSETTO:+0200
TZNAME:CEST
DTSTART:20260329T010000
END:DAYLIGHT
BEGIN:STANDARD
TZOFFSETFROM:+0200
TZOFFSETTO:+0100
TZNAME:CET
DTSTART:20261025T010000
END:STANDARD
BEGIN:DAYLIGHT
TZOFFSETFROM:+0100
TZOFFSETTO:+0200
TZNAME:CEST
DTSTART:20270328T010000
END:DAYLIGHT
BEGIN:STANDARD
TZOFFSETFROM:+0200
TZOFFSETTO:+0100
TZNAME:CET
DTSTART:20271031T010000
END:STANDARD
END:VTIMEZONE
BEGIN:VEVENT
DTSTART;TZID=Europe/Prague:20260317T200000
DTEND;TZID=Europe/Prague:20260317T210000
DTSTAMP:20260424T204212
CREATED:20260128T193149Z
LAST-MODIFIED:20260410T140529Z
UID:52541-1773777600-1773781200@taiji.cz
SUMMARY:Úvodní kurz Tai-chi
DESCRIPTION:
URL:https://taiji.cz/taichi-akce/taichi-kurz-praha-2/
CATEGORIES:Tchaj-ťi,uvodní kurzy
ATTACH;FMTTYPE=image/jpeg:https://taiji.cz/wp-content/uploads/2023/07/pruh-podzim-2023-e1722514752620.jpg
END:VEVENT
END:VCALENDAR