BEGIN:VCALENDAR
VERSION:2.0
PRODID:-//Taiji, Taichi, Čchi-kung kurzy v praze - ECPv6.15.20//NONSGML v1.0//EN
CALSCALE:GREGORIAN
METHOD:PUBLISH
X-WR-CALNAME:Taiji, Taichi, Čchi-kung kurzy v praze
X-ORIGINAL-URL:https://taiji.cz
X-WR-CALDESC:Akce na Taiji, Taichi, Čchi-kung kurzy v praze
REFRESH-INTERVAL;VALUE=DURATION:PT1H
X-Robots-Tag:noindex
X-PUBLISHED-TTL:PT1H
BEGIN:VTIMEZONE
TZID:Europe/Prague
BEGIN:DAYLIGHT
TZOFFSETFROM:+0100
TZOFFSETTO:+0200
TZNAME:CEST
DTSTART:20250330T010000
END:DAYLIGHT
BEGIN:STANDARD
TZOFFSETFROM:+0200
TZOFFSETTO:+0100
TZNAME:CET
DTSTART:20251026T010000
END:STANDARD
BEGIN:DAYLIGHT
TZOFFSETFROM:+0100
TZOFFSETTO:+0200
TZNAME:CEST
DTSTART:20260329T010000
END:DAYLIGHT
BEGIN:STANDARD
TZOFFSETFROM:+0200
TZOFFSETTO:+0100
TZNAME:CET
DTSTART:20261025T010000
END:STANDARD
BEGIN:DAYLIGHT
TZOFFSETFROM:+0100
TZOFFSETTO:+0200
TZNAME:CEST
DTSTART:20270328T010000
END:DAYLIGHT
BEGIN:STANDARD
TZOFFSETFROM:+0200
TZOFFSETTO:+0100
TZNAME:CET
DTSTART:20271031T010000
END:STANDARD
END:VTIMEZONE
BEGIN:VEVENT
DTSTART;TZID=Europe/Prague:20260316T170000
DTEND;TZID=Europe/Prague:20260316T180000
DTSTAMP:20260424T204115
CREATED:20260211T145407Z
LAST-MODIFIED:20260318T094042Z
UID:52633-1773680400-1773684000@taiji.cz
SUMMARY:Jarní kurz Čchi-kung
DESCRIPTION:
URL:https://taiji.cz/taichi-akce/kurz-cchi-kung-praha2-2/
CATEGORIES:Čchi-kung,uvodní kurzy
ATTACH;FMTTYPE=image/jpeg:https://taiji.cz/wp-content/uploads/2023/09/cchikung_jitka_sirka.jpg
END:VEVENT
END:VCALENDAR